BEGIN:VCALENDAR
VERSION:2.0
PRODID:-//Vocoder Ensemble - ECPv6.15.20//NONSGML v1.0//EN
CALSCALE:GREGORIAN
METHOD:PUBLISH
X-ORIGINAL-URL:https://vocoderensemble.de
X-WR-CALDESC:Veranstaltungen für Vocoder Ensemble
REFRESH-INTERVAL;VALUE=DURATION:PT1H
X-Robots-Tag:noindex
X-PUBLISHED-TTL:PT1H
BEGIN:VTIMEZONE
TZID:Europe/Berlin
BEGIN:DAYLIGHT
TZOFFSETFROM:+0100
TZOFFSETTO:+0200
TZNAME:CEST
DTSTART:20230326T010000
END:DAYLIGHT
BEGIN:STANDARD
TZOFFSETFROM:+0200
TZOFFSETTO:+0100
TZNAME:CET
DTSTART:20231029T010000
END:STANDARD
BEGIN:DAYLIGHT
TZOFFSETFROM:+0100
TZOFFSETTO:+0200
TZNAME:CEST
DTSTART:20240331T010000
END:DAYLIGHT
BEGIN:STANDARD
TZOFFSETFROM:+0200
TZOFFSETTO:+0100
TZNAME:CET
DTSTART:20241027T010000
END:STANDARD
BEGIN:DAYLIGHT
TZOFFSETFROM:+0100
TZOFFSETTO:+0200
TZNAME:CEST
DTSTART:20250330T010000
END:DAYLIGHT
BEGIN:STANDARD
TZOFFSETFROM:+0200
TZOFFSETTO:+0100
TZNAME:CET
DTSTART:20251026T010000
END:STANDARD
END:VTIMEZONE
BEGIN:VEVENT
DTSTART;TZID=Europe/Berlin:20241214T193000
DTEND;TZID=Europe/Berlin:20241214T193000
DTSTAMP:20260422T222920
CREATED:20241022T061358Z
LAST-MODIFIED:20241022T063314Z
UID:273-1734204600-1734204600@vocoderensemble.de
SUMMARY:Adventskonzert
DESCRIPTION:Wir besingen die (Vor-)Weihnachtszeit und erfüllen sie mit harmonischen Klängen.
URL:https://vocoderensemble.de/konzert/adventskonzert-14-12-2024/
LOCATION:Ev. Kirche St. Gertrud\, Hamburg-Mundsburg\, Germany
CATEGORIES:Adventskonzert
END:VEVENT
END:VCALENDAR